BEGIN:VCALENDAR
VERSION:2.0
PRODID:-//Tukios.com/
BEGIN:VEVENT
UID:b24cc7c6-0742-48e6-a8f8-c3dc97b2a6e6@www.waltersfuneralhome.net
DTSTAMP:20260424T175952Z
DTSTART:20260427T220000Z
DTEND:20260427T230000Z
SUMMARY:Memorial Service
DESCRIPTION:
URL:https://www.waltersfuneralhome.net/obituaries/paul-terry-2026
LOCATION:OneLove Church 2301 Jacksboro Pike, Suite 3  LaFollette TN 37766
GEO:36.3448432;-84.1616904
END:VEVENT
END:VCALENDAR