BEGIN:VCALENDAR
VERSION:2.0
PRODID:-//Tukios.com/
BEGIN:VEVENT
UID:d350a66f-d0e6-48c8-87c3-88949a5b2bff@www.waltersfuneralhome.net
DTSTAMP:20260424T180054Z
DTSTART:20260427T210000Z
DTEND:20260427T220000Z
SUMMARY:Visitation
DESCRIPTION:
URL:https://www.waltersfuneralhome.net/obituaries/paul-terry-2026
LOCATION:OneLove Church 2301 Jacksboro Pike, Suite 3  LaFollette TN 37766
GEO:36.3448432;-84.1616904
END:VEVENT
END:VCALENDAR