BEGIN:VCALENDAR
VERSION:2.0
PRODID:-//Tukios.com/
BEGIN:VEVENT
UID:1c912865-e16f-4263-84f5-d0aece9052f0@www.waltersfuneralhome.net
DTSTAMP:20260423T064311Z
DTSTART:20260425T170000Z
DTEND:20260425T180000Z
SUMMARY:Funeral Service
DESCRIPTION:
URL:https://www.waltersfuneralhome.net/obituaries/marvin-mcghee
LOCATION: 509 East Central Avenue  LaFollette TN 37766
GEO:36.3851031;-84.1175786
END:VEVENT
END:VCALENDAR