BEGIN:VCALENDAR
VERSION:2.0
PRODID:-//Tukios.com/
BEGIN:VEVENT
UID:a8912f0c-3584-44f5-a30c-d3f5f5758681@www.waltersfuneralhome.net
DTSTAMP:20260423T064438Z
DTSTART:20260425T150000Z
DTEND:20260425T170000Z
SUMMARY:Visitation
DESCRIPTION:
URL:https://www.waltersfuneralhome.net/obituaries/marvin-mcghee
LOCATION: 509 East Central Avenue  LaFollette TN 37766
GEO:36.3851031;-84.1175786
END:VEVENT
END:VCALENDAR