BEGIN:VCALENDAR
VERSION:2.0
PRODID:-//Tukios.com/
BEGIN:VEVENT
UID:865184e8-4b54-4abc-ab89-a91fad1140cb@www.waltersfuneralhome.net
DTSTAMP:20260423T201839Z
DTSTART:20260502T150000Z
DTEND:20260502T160000Z
SUMMARY:Graveside Service
DESCRIPTION:
URL:https://www.waltersfuneralhome.net/obituaries/kenny-bartley
LOCATION: 4784 Old Hwy 63  Speedwell TN 37870
GEO:36.4572842;-83.8915064
END:VEVENT
END:VCALENDAR