BEGIN:VCALENDAR
VERSION:2.0
PRODID:-//Tukios.com/
BEGIN:VEVENT
UID:b3a92fbb-736b-4506-a118-dec2d12e1f96@www.waltersfuneralhome.net
DTSTAMP:20260424T185226Z
DTSTART:20260426T190000Z
DTEND:20260426T200000Z
SUMMARY:Celebration of Life
DESCRIPTION:
URL:https://www.waltersfuneralhome.net/obituaries/kenneth-starrett-sr
LOCATION:Jacksboro Cemetery 216 Liberty Street  Jacksboro TN 37757
GEO:36.3284823;-84.1783285
END:VEVENT
END:VCALENDAR